BEGIN:VCALENDAR
VERSION:2.0
PRODID:-//Edmonson County Tourism - ECPv6.15.20//NONSGML v1.0//EN
CALSCALE:GREGORIAN
METHOD:PUBLISH
X-WR-CALNAME:Edmonson County Tourism
X-ORIGINAL-URL:https://www.cavesandlakes.com
X-WR-CALDESC:Events for Edmonson County Tourism
REFRESH-INTERVAL;VALUE=DURATION:PT1H
X-Robots-Tag:noindex
X-PUBLISHED-TTL:PT1H
BEGIN:VTIMEZONE
TZID:America/Chicago
BEGIN:DAYLIGHT
TZOFFSETFROM:-0600
TZOFFSETTO:-0500
TZNAME:CDT
DTSTART:20250309T080000
END:DAYLIGHT
BEGIN:STANDARD
TZOFFSETFROM:-0500
TZOFFSETTO:-0600
TZNAME:CST
DTSTART:20251102T070000
END:STANDARD
BEGIN:DAYLIGHT
TZOFFSETFROM:-0600
TZOFFSETTO:-0500
TZNAME:CDT
DTSTART:20260308T080000
END:DAYLIGHT
BEGIN:STANDARD
TZOFFSETFROM:-0500
TZOFFSETTO:-0600
TZNAME:CST
DTSTART:20261101T070000
END:STANDARD
BEGIN:DAYLIGHT
TZOFFSETFROM:-0600
TZOFFSETTO:-0500
TZNAME:CDT
DTSTART:20270314T080000
END:DAYLIGHT
BEGIN:STANDARD
TZOFFSETFROM:-0500
TZOFFSETTO:-0600
TZNAME:CST
DTSTART:20271107T070000
END:STANDARD
END:VTIMEZONE
BEGIN:VEVENT
DTSTART;VALUE=DATE:20260424
DTEND;VALUE=DATE:20260426
DTSTAMP:20260424T073939
CREATED:20260414T172007Z
LAST-MODIFIED:20260414T172007Z
UID:1566-1776988800-1777161599@www.cavesandlakes.com
SUMMARY:Peace Valley Amish Market Annual Open House
DESCRIPTION:Join Peace Valley for their highly anticipated Annual Open House weekend on Friday\, April 24 – Saturday\, April 25th where EVERYONE gets a free soft pretzel! Enjoy oven fried pizzas and fried pies on Saturday. This is a wonderful opportunity to stock up on flowers and plants from their greenhouse and enjoy shopping homemade items in their market.
URL:https://www.cavesandlakes.com/event/peace-valley-amish-market-annual-open-house/
LOCATION:Peace Valley Market\, 277 Peace Valley Lane\, Brownsville\, Kentucky\, 42210
CATEGORIES:Spring
ATTACH;FMTTYPE=image/png:https://www.cavesandlakes.com/wp-content/uploads/2026/04/1-scaled.png
END:VEVENT
BEGIN:VEVENT
DTSTART;VALUE=DATE:20260426
DTEND;VALUE=DATE:20260427
DTSTAMP:20260424T073939
CREATED:20260121T170244Z
LAST-MODIFIED:20260325T173036Z
UID:1523-1777161600-1777247999@www.cavesandlakes.com
SUMMARY:4th Anniversary Golf Tournament @ Park Mammoth Golf Club
DESCRIPTION:Mark your calendar for the 2026 Park Mammoth Golf Club Anniversary Tournament\, one of their most anticipated events of the year and a sellout every single time!\n\n\n\n\n\n April 26\, 2026\n 2-Person Shamble\n Lunch included\n Great prizes\n $150 per player | $300 per team\n\n\n\nSpace is officially limited — book now to ensure your place in the tournament.\n\n\n\nTo register\, email: hmadril@parkmammothgolfclub.com\n\n\n(Include names\, ages\, phone numbers\, emails & handicap indexes.)
URL:https://www.cavesandlakes.com/event/4th-anniversary-golf-tournament-park-mammoth-golf-club/
LOCATION:Park Mammoth Golf Club\, 823 Bald Knob Road\, Park City\, KY\, 42160\, United States
CATEGORIES:Spring
ATTACH;FMTTYPE=image/jpeg:https://www.cavesandlakes.com/wp-content/uploads/2026/01/Golf-4th-Annual.jpg
END:VEVENT
END:VCALENDAR