BEGIN:VCALENDAR
VERSION:2.0
PRODID:-//Edmonson County Tourism - ECPv6.15.20//NONSGML v1.0//EN
CALSCALE:GREGORIAN
METHOD:PUBLISH
X-WR-CALNAME:Edmonson County Tourism
X-ORIGINAL-URL:https://www.cavesandlakes.com
X-WR-CALDESC:Events for Edmonson County Tourism
REFRESH-INTERVAL;VALUE=DURATION:PT1H
X-Robots-Tag:noindex
X-PUBLISHED-TTL:PT1H
BEGIN:VTIMEZONE
TZID:America/Chicago
BEGIN:DAYLIGHT
TZOFFSETFROM:-0600
TZOFFSETTO:-0500
TZNAME:CDT
DTSTART:20250309T080000
END:DAYLIGHT
BEGIN:STANDARD
TZOFFSETFROM:-0500
TZOFFSETTO:-0600
TZNAME:CST
DTSTART:20251102T070000
END:STANDARD
BEGIN:DAYLIGHT
TZOFFSETFROM:-0600
TZOFFSETTO:-0500
TZNAME:CDT
DTSTART:20260308T080000
END:DAYLIGHT
BEGIN:STANDARD
TZOFFSETFROM:-0500
TZOFFSETTO:-0600
TZNAME:CST
DTSTART:20261101T070000
END:STANDARD
BEGIN:DAYLIGHT
TZOFFSETFROM:-0600
TZOFFSETTO:-0500
TZNAME:CDT
DTSTART:20270314T080000
END:DAYLIGHT
BEGIN:STANDARD
TZOFFSETFROM:-0500
TZOFFSETTO:-0600
TZNAME:CST
DTSTART:20271107T070000
END:STANDARD
END:VTIMEZONE
BEGIN:VEVENT
DTSTART;VALUE=DATE:20260306
DTEND;VALUE=DATE:20260308
DTSTAMP:20260424T091454
CREATED:20260127T004359Z
LAST-MODIFIED:20260127T004632Z
UID:1528-1772755200-1772927999@www.cavesandlakes.com
SUMMARY:Knife and Arms Show
DESCRIPTION:Join the Edmonson County Lions Club and Green River Blade Club for the Knife and Arms Show on March 6-7th\, 2026 at the Edmonson County Fairgrounds. For lodging information\, please visit Edmonson County Lodging | Hotels and Lodging Near Mammoth Cave \n 
URL:https://www.cavesandlakes.com/event/knife-and-arms-show/
LOCATION:Edmonson County Fair Grounds\, 350 Fairgrounds Road\, Brownsville\, KY\, 42210
CATEGORIES:Spring
END:VEVENT
END:VCALENDAR