BEGIN:VCALENDAR
VERSION:2.0
PRODID:-//Edmonson County Tourism - ECPv6.15.20//NONSGML v1.0//EN
CALSCALE:GREGORIAN
METHOD:PUBLISH
X-WR-CALNAME:Edmonson County Tourism
X-ORIGINAL-URL:https://www.cavesandlakes.com
X-WR-CALDESC:Events for Edmonson County Tourism
REFRESH-INTERVAL;VALUE=DURATION:PT1H
X-Robots-Tag:noindex
X-PUBLISHED-TTL:PT1H
BEGIN:VTIMEZONE
TZID:America/Chicago
BEGIN:DAYLIGHT
TZOFFSETFROM:-0600
TZOFFSETTO:-0500
TZNAME:CDT
DTSTART:20250309T080000
END:DAYLIGHT
BEGIN:STANDARD
TZOFFSETFROM:-0500
TZOFFSETTO:-0600
TZNAME:CST
DTSTART:20251102T070000
END:STANDARD
BEGIN:DAYLIGHT
TZOFFSETFROM:-0600
TZOFFSETTO:-0500
TZNAME:CDT
DTSTART:20260308T080000
END:DAYLIGHT
BEGIN:STANDARD
TZOFFSETFROM:-0500
TZOFFSETTO:-0600
TZNAME:CST
DTSTART:20261101T070000
END:STANDARD
BEGIN:DAYLIGHT
TZOFFSETFROM:-0600
TZOFFSETTO:-0500
TZNAME:CDT
DTSTART:20270314T080000
END:DAYLIGHT
BEGIN:STANDARD
TZOFFSETFROM:-0500
TZOFFSETTO:-0600
TZNAME:CST
DTSTART:20271107T070000
END:STANDARD
END:VTIMEZONE
BEGIN:VEVENT
DTSTART;VALUE=DATE:20260606
DTEND;VALUE=DATE:20260607
DTSTAMP:20260423T084629
CREATED:20260325T140157Z
LAST-MODIFIED:20260325T172303Z
UID:1558-1780704000-1780790399@www.cavesandlakes.com
SUMMARY:Old Fashioned Picnic on the Square
DESCRIPTION:Picnic on the Square!  Step back in time and join us for a day full of simple joys\, laughter\, and community connection at our Picnic on the Square!\n\n\n\nEnjoy an old-fashioned day filled with:\n Classic picnic foods\n Old-timey games for all ages\n Music\, laughter\, and sweet summertime memories\n A whole lot of community fun\n\n\n And end the night with a relaxing outdoor movie under the stars!\n\n\n\nThis is more than just an event—it’s a chance to gather together\, slow down\, and celebrate what makes our community so special
URL:https://www.cavesandlakes.com/event/old-fashioned-picnic-on-the-square/
LOCATION:Edmonson County Courthouse Square\, Main Cross Street\, Brownsville\, Kentucky\, 42210
CATEGORIES:Summer
ATTACH;FMTTYPE=image/jpeg:https://www.cavesandlakes.com/wp-content/uploads/2026/03/Picnic.jpg
END:VEVENT
BEGIN:VEVENT
DTSTART;VALUE=DATE:20260626
DTEND;VALUE=DATE:20260627
DTSTAMP:20260423T084629
CREATED:20260416T222708Z
LAST-MODIFIED:20260416T222708Z
UID:1570-1782432000-1782518399@www.cavesandlakes.com
SUMMARY:Annual Freedom Fest
DESCRIPTION:Freedom Fest will take place on June 26th\, 2026. More details to come.
URL:https://www.cavesandlakes.com/event/annual-freedom-fest-2/
LOCATION:KY
CATEGORIES:Summer
ATTACH;FMTTYPE=image/jpeg:https://www.cavesandlakes.com/wp-content/uploads/2026/04/2026-Freedom-Fest-Save-Date.jpg
END:VEVENT
BEGIN:VEVENT
DTSTART;TZID=America/Chicago:20260627T110000
DTEND;TZID=America/Chicago:20260627T220000
DTSTAMP:20260423T084629
CREATED:20260312T163019Z
LAST-MODIFIED:20260325T172150Z
UID:1548-1782558000-1782597600@www.cavesandlakes.com
SUMMARY:Art & Music Festival
DESCRIPTION:Join the Edmonson County Lions Club and Edmonson County Arts Guild for their Art & Music Festival on June 27th from 11AM – 10PM at the Edmonson County Fairgrounds.
URL:https://www.cavesandlakes.com/event/art-music-festival/
LOCATION:Edmonson County Fair Grounds\, 350 Fairgrounds Road\, Brownsville\, KY\, 42210
CATEGORIES:Summer
ATTACH;FMTTYPE=image/jpeg:https://www.cavesandlakes.com/wp-content/uploads/2026/03/648653271_1224660436545942_8309385291642539442_n.jpg
END:VEVENT
END:VCALENDAR