BEGIN:VCALENDAR
VERSION:2.0
PRODID:-//Edmonson County Tourism - ECPv6.15.20//NONSGML v1.0//EN
CALSCALE:GREGORIAN
METHOD:PUBLISH
X-WR-CALNAME:Edmonson County Tourism
X-ORIGINAL-URL:https://www.cavesandlakes.com
X-WR-CALDESC:Events for Edmonson County Tourism
REFRESH-INTERVAL;VALUE=DURATION:PT1H
X-Robots-Tag:noindex
X-PUBLISHED-TTL:PT1H
BEGIN:VTIMEZONE
TZID:America/Chicago
BEGIN:DAYLIGHT
TZOFFSETFROM:-0600
TZOFFSETTO:-0500
TZNAME:CDT
DTSTART:20250309T080000
END:DAYLIGHT
BEGIN:STANDARD
TZOFFSETFROM:-0500
TZOFFSETTO:-0600
TZNAME:CST
DTSTART:20251102T070000
END:STANDARD
BEGIN:DAYLIGHT
TZOFFSETFROM:-0600
TZOFFSETTO:-0500
TZNAME:CDT
DTSTART:20260308T080000
END:DAYLIGHT
BEGIN:STANDARD
TZOFFSETFROM:-0500
TZOFFSETTO:-0600
TZNAME:CST
DTSTART:20261101T070000
END:STANDARD
BEGIN:DAYLIGHT
TZOFFSETFROM:-0600
TZOFFSETTO:-0500
TZNAME:CDT
DTSTART:20270314T080000
END:DAYLIGHT
BEGIN:STANDARD
TZOFFSETFROM:-0500
TZOFFSETTO:-0600
TZNAME:CST
DTSTART:20271107T070000
END:STANDARD
END:VTIMEZONE
BEGIN:VEVENT
DTSTART;VALUE=DATE:20260501
DTEND;VALUE=DATE:20260503
DTSTAMP:20260424T090019
CREATED:20260416T223156Z
LAST-MODIFIED:20260416T223156Z
UID:1572-1777593600-1777766399@www.cavesandlakes.com
SUMMARY:Moutardier Marina Derby Weekend
DESCRIPTION:Join Moutardier Marina Nolin Lake as they put the horse in horsepower through celebrations at the marina for Kentucky’s 152nd Derby\, noted as the Most Exciting Two Minutes in Sports® Enjoy the 🏇🏽OAKS ~ Friday\, May 1st ~ (mock) Drink Specials + Breast Cancer Awareness and the 🌹DERBY ~ Saturday\, May 2nd ~ Derby Festivities.
URL:https://www.cavesandlakes.com/event/moutardier-marina-derby-weekend/
LOCATION:Moutardier Resort & Marina\, 1990 Moutardier Rd\, Leitchfield\, KY\, 42754\, United States
CATEGORIES:Spring
ATTACH;FMTTYPE=image/png:https://www.cavesandlakes.com/wp-content/uploads/2026/04/Derby-Weekend-Event-at-Moutardier-Marina.png
END:VEVENT
BEGIN:VEVENT
DTSTART;VALUE=DATE:20260501
DTEND;VALUE=DATE:20260504
DTSTAMP:20260424T090019
CREATED:20251213T150444Z
LAST-MODIFIED:20251213T150444Z
UID:1502-1777593600-1777852799@www.cavesandlakes.com
SUMMARY:Mammoth Cave Horse Camp Derby Party
DESCRIPTION:NO EVENT FEE! Join Mammoth Cave Horse Camp on Kentucky Derby Day for all of the fun and excitement of the fastest and most exciting two minutes in sports! Throughout the day they will be showing the races on a huge outdoor theater under the pavilion. During the day enjoy the scenic beauty of Mammoth Cave National Park as you explore the back country\, trail riding with old friends and new acquaintances. After the big race put your dancing boots on for live music at the pavilion! Feast on a potluck meal Saturday night! For best site selection and discount reservations book online today!
URL:https://www.cavesandlakes.com/event/mammoth-cave-horse-camp-derby-party/
LOCATION:Mammoth Cave Horse Camp\, 2578 Ollie Road Mammoth Cave\, KY 42259\, Mammoth Cave\, KY\, 42259
CATEGORIES:Spring
END:VEVENT
END:VCALENDAR