BEGIN:VCALENDAR
VERSION:2.0
PRODID:-//Edmonson County Tourism - ECPv6.15.20//NONSGML v1.0//EN
CALSCALE:GREGORIAN
METHOD:PUBLISH
X-WR-CALNAME:Edmonson County Tourism
X-ORIGINAL-URL:https://www.cavesandlakes.com
X-WR-CALDESC:Events for Edmonson County Tourism
REFRESH-INTERVAL;VALUE=DURATION:PT1H
X-Robots-Tag:noindex
X-PUBLISHED-TTL:PT1H
BEGIN:VTIMEZONE
TZID:America/Chicago
BEGIN:DAYLIGHT
TZOFFSETFROM:-0600
TZOFFSETTO:-0500
TZNAME:CDT
DTSTART:20240310T080000
END:DAYLIGHT
BEGIN:STANDARD
TZOFFSETFROM:-0500
TZOFFSETTO:-0600
TZNAME:CST
DTSTART:20241103T070000
END:STANDARD
BEGIN:DAYLIGHT
TZOFFSETFROM:-0600
TZOFFSETTO:-0500
TZNAME:CDT
DTSTART:20250309T080000
END:DAYLIGHT
BEGIN:STANDARD
TZOFFSETFROM:-0500
TZOFFSETTO:-0600
TZNAME:CST
DTSTART:20251102T070000
END:STANDARD
BEGIN:DAYLIGHT
TZOFFSETFROM:-0600
TZOFFSETTO:-0500
TZNAME:CDT
DTSTART:20260308T080000
END:DAYLIGHT
BEGIN:STANDARD
TZOFFSETFROM:-0500
TZOFFSETTO:-0600
TZNAME:CST
DTSTART:20261101T070000
END:STANDARD
END:VTIMEZONE
BEGIN:VEVENT
DTSTART;VALUE=DATE:20250523
DTEND;VALUE=DATE:20250527
DTSTAMP:20260424T044017
CREATED:20241223T165256Z
LAST-MODIFIED:20241223T165256Z
UID:1152-1747958400-1748303999@www.cavesandlakes.com
SUMMARY:Memorial Weekend Trail Ride
DESCRIPTION:This exciting event is a three-night minimum stay with camping and stall rental rates that apply. Enjoy a live band Saturday night! We hope to see everyone there for an awesome weekend of camping and riding. NO EVENT FEE! For best site selection and discount reservations book online today!
URL:https://www.mammothcavehorsecamp.com/events#new_tab
LOCATION:Mammoth Cave Horse Camp\, 2578 Ollie Road Mammoth Cave\, KY 42259\, Mammoth Cave\, KY\, 42259
CATEGORIES:Spring
END:VEVENT
BEGIN:VEVENT
DTSTART;VALUE=DATE:20250523
DTEND;VALUE=DATE:20250527
DTSTAMP:20260424T044017
CREATED:20250102T205842Z
LAST-MODIFIED:20250102T205954Z
UID:1162-1747958400-1748303999@www.cavesandlakes.com
SUMMARY:Double J Stables Memorial Weekend
DESCRIPTION:Join Double J Stables for their annual Memorial Weekend! There is a 3-night minimum stay\, and non-refundable deposits are required. The weekend consists of the following: Saturday 8am Breakfast will be available for $9 a plate\, while Saturday 7pm-10pm allows you to enjoy an old-fashioned Hoe Down! Dress in your best dancin’ duds and kick the dust up with some awesome Bluegrass music featuring the Redwire Bluegrass Band. Call to make your reservations at 270-286-0310 Tuesday-Sunday between 8am-5pm central time.
URL:https://www.cavesandlakes.com/event/double-j-stables-memorial-weekend/
LOCATION:Double J Stables & Horseman’s Campground\, 542 Lincoln School Road\, Mammoth Cave\, KY\, 42259\, United States
CATEGORIES:Spring
END:VEVENT
END:VCALENDAR