BEGIN:VCALENDAR
VERSION:2.0
PRODID:-//Edmonson County Tourism - ECPv6.15.20//NONSGML v1.0//EN
CALSCALE:GREGORIAN
METHOD:PUBLISH
X-WR-CALNAME:Edmonson County Tourism
X-ORIGINAL-URL:https://www.cavesandlakes.com
X-WR-CALDESC:Events for Edmonson County Tourism
REFRESH-INTERVAL;VALUE=DURATION:PT1H
X-Robots-Tag:noindex
X-PUBLISHED-TTL:PT1H
BEGIN:VTIMEZONE
TZID:America/Chicago
BEGIN:DAYLIGHT
TZOFFSETFROM:-0600
TZOFFSETTO:-0500
TZNAME:CDT
DTSTART:20240310T080000
END:DAYLIGHT
BEGIN:STANDARD
TZOFFSETFROM:-0500
TZOFFSETTO:-0600
TZNAME:CST
DTSTART:20241103T070000
END:STANDARD
BEGIN:DAYLIGHT
TZOFFSETFROM:-0600
TZOFFSETTO:-0500
TZNAME:CDT
DTSTART:20250309T080000
END:DAYLIGHT
BEGIN:STANDARD
TZOFFSETFROM:-0500
TZOFFSETTO:-0600
TZNAME:CST
DTSTART:20251102T070000
END:STANDARD
BEGIN:DAYLIGHT
TZOFFSETFROM:-0600
TZOFFSETTO:-0500
TZNAME:CDT
DTSTART:20260308T080000
END:DAYLIGHT
BEGIN:STANDARD
TZOFFSETFROM:-0500
TZOFFSETTO:-0600
TZNAME:CST
DTSTART:20261101T070000
END:STANDARD
END:VTIMEZONE
BEGIN:VEVENT
DTSTART;TZID=America/Chicago:20250517T090000
DTEND;TZID=America/Chicago:20250517T150000
DTSTAMP:20260420T070422
CREATED:20250402T225356Z
LAST-MODIFIED:20250402T225356Z
UID:1298-1747472400-1747494000@www.cavesandlakes.com
SUMMARY:KY 4H Horse Program Mammoth Cave Trail Ride
DESCRIPTION:On May 17\, 2025 the Kentucky 4-H Horse Program is hosting a statewide trail ride in Mammoth Cave\, KY with the set-up and ride out of Mammoth Cave Horse Camp. Come and join us for a day of beautiful trails and great company!\n\n\n\nThe current schedule is as follows: 9-10 AM: Donuts & tack up; 10- 1:30 PM: Trail riding; 1:30- 3:00 PM: Group picnic\n\n\n\nYou can register for the event here: https://uky.az1.qualtrics.com/jfe/form/SV_3jvP2Ge1t8mkLtQ\n\n\n\nIf you plan to camp\, make sure to make reservations through Mammoth Cave Horse Camp: https://www.campspot.com/book/mammothcavehorsecamp\n\n  \n 
URL:https://www.cavesandlakes.com/event/ky-4h-horse-program-mammoth-cave-trail-ride/
LOCATION:Mammoth Cave Horse Camp\, 2578 Ollie Road Mammoth Cave\, KY 42259\, Mammoth Cave\, KY\, 42259
CATEGORIES:Spring
END:VEVENT
BEGIN:VEVENT
DTSTART;TZID=America/Chicago:20250517T110000
DTEND;TZID=America/Chicago:20250517T160000
DTSTAMP:20260420T070422
CREATED:20250108T024136Z
LAST-MODIFIED:20250124T165102Z
UID:1167-1747479600-1747497600@www.cavesandlakes.com
SUMMARY:Spring on Fire Vendor Event
DESCRIPTION:Mark your calendars for “Spring on Fire” Vendor/Fundraising Event for the Chalybeate Volunteer Fire Department on Saturday\, May 17th from 11 AM to 4 PM.
URL:https://www.cavesandlakes.com/event/spring-on-fire-vendor-event/
LOCATION:Chalybeate VFD
CATEGORIES:Spring
END:VEVENT
END:VCALENDAR